BEGIN:VCALENDAR
VERSION:2.0
PRODID:-//Audiometrie-Schulung und Seminare für HNO Fachangestellte - ECPv6.15.20//NONSGML v1.0//EN
CALSCALE:GREGORIAN
METHOD:PUBLISH
X-WR-CALNAME:Audiometrie-Schulung und Seminare für HNO Fachangestellte
X-ORIGINAL-URL:https://www.monika-endres-jotter.de
X-WR-CALDESC:Veranstaltungen für Audiometrie-Schulung und Seminare für HNO Fachangestellte
REFRESH-INTERVAL;VALUE=DURATION:PT1H
X-Robots-Tag:noindex
X-PUBLISHED-TTL:PT1H
BEGIN:VTIMEZONE
TZID:UTC
BEGIN:STANDARD
TZOFFSETFROM:+0000
TZOFFSETTO:+0000
TZNAME:UTC
DTSTART:20250101T000000
END:STANDARD
END:VTIMEZONE
BEGIN:VEVENT
DTSTART;TZID=UTC:20260912T170000
DTEND;TZID=UTC:20260912T210000
DTSTAMP:20260421T085936
CREATED:20260122T104525Z
LAST-MODIFIED:20260122T104525Z
UID:229403-1789232400-1789246800@www.monika-endres-jotter.de
SUMMARY:Rückreise Vestibularis-Diagnostik
DESCRIPTION:
URL:https://www.monika-endres-jotter.de/schulung/rueckreise-vestibularis-diagnostik-10/
LOCATION:Mühlheim an der Ruhr
CATEGORIES:Natus Medical GmbH
END:VEVENT
BEGIN:VEVENT
DTSTART;TZID=UTC:20260918T120000
DTEND;TZID=UTC:20260918T160000
DTSTAMP:20260421T085936
CREATED:20251129T133419Z
LAST-MODIFIED:20251211T124052Z
UID:229294-1789732800-1789747200@www.monika-endres-jotter.de
SUMMARY:Anreise Vestibularis-Diagnostik
DESCRIPTION:
URL:https://www.monika-endres-jotter.de/schulung/anreise-vestibularis-diagnostik-8/
LOCATION:Leipzig
CATEGORIES:auric-direct GmbH
END:VEVENT
BEGIN:VEVENT
DTSTART;TZID=UTC:20260919T084500
DTEND;TZID=UTC:20260919T163000
DTSTAMP:20260421T085936
CREATED:20251129T133631Z
LAST-MODIFIED:20251211T124323Z
UID:229296-1789807500-1789835400@www.monika-endres-jotter.de
SUMMARY:Vestibularis-Diagnostik
DESCRIPTION:
URL:https://www.monika-endres-jotter.de/schulung/vestibularis-diagnostik-22/
LOCATION:Leipzig
CATEGORIES:auric-direct GmbH
END:VEVENT
BEGIN:VEVENT
DTSTART;TZID=UTC:20260920T100000
DTEND;TZID=UTC:20260920T140000
DTSTAMP:20260421T085936
CREATED:20251129T133821Z
LAST-MODIFIED:20251211T124718Z
UID:229298-1789898400-1789912800@www.monika-endres-jotter.de
SUMMARY:Rückreise Vestibularis-Diagnostik
DESCRIPTION:
URL:https://www.monika-endres-jotter.de/schulung/rueckreise-vestibularis-diagnostik-9/
LOCATION:Leipzig
CATEGORIES:auric-direct GmbH
END:VEVENT
BEGIN:VEVENT
DTSTART;TZID=UTC:20260924T140000
DTEND;TZID=UTC:20260924T170000
DTSTAMP:20260421T085936
CREATED:20251208T103815Z
LAST-MODIFIED:20251211T123713Z
UID:229305-1790258400-1790269200@www.monika-endres-jotter.de
SUMMARY:Anreise Audiometrieschulung
DESCRIPTION:
URL:https://www.monika-endres-jotter.de/schulung/anreise-audiometrieschulung-11/
LOCATION:Ingolstadt
CATEGORIES:auric-direct GmbH
END:VEVENT
BEGIN:VEVENT
DTSTART;TZID=UTC:20260925T114500
DTEND;TZID=UTC:20260925T171500
DTSTAMP:20260421T085936
CREATED:20251208T113519Z
LAST-MODIFIED:20251211T123645Z
UID:229311-1790336700-1790356500@www.monika-endres-jotter.de
SUMMARY:Audiometrie für Anfänger
DESCRIPTION:
URL:https://www.monika-endres-jotter.de/schulung/audiometrie-fuer-anfaenger-31/
LOCATION:Ingolstadt
CATEGORIES:auric-direct GmbH
END:VEVENT
BEGIN:VEVENT
DTSTART;TZID=UTC:20260926T084500
DTEND;TZID=UTC:20260926T161500
DTSTAMP:20260421T085936
CREATED:20251208T113749Z
LAST-MODIFIED:20251211T123631Z
UID:229313-1790412300-1790439300@www.monika-endres-jotter.de
SUMMARY:Audiometrie für Fortgeschrittene
DESCRIPTION:
URL:https://www.monika-endres-jotter.de/schulung/audiometrie-fuer-fortgeschrittene-42/
LOCATION:Ingolstadt
CATEGORIES:auric-direct GmbH
END:VEVENT
BEGIN:VEVENT
DTSTART;TZID=UTC:20260926T164500
DTEND;TZID=UTC:20260926T194500
DTSTAMP:20260421T085936
CREATED:20251208T113949Z
LAST-MODIFIED:20251211T123531Z
UID:229316-1790441100-1790451900@www.monika-endres-jotter.de
SUMMARY:Rückreise Audiometrieschulung
DESCRIPTION:
URL:https://www.monika-endres-jotter.de/schulung/rueckreise-audiometrieschulung-9/
LOCATION:Ingolstadt
CATEGORIES:auric-direct GmbH
END:VEVENT
BEGIN:VEVENT
DTSTART;TZID=UTC:20261008T120000
DTEND;TZID=UTC:20261008T170000
DTSTAMP:20260421T085936
CREATED:20251208T114141Z
LAST-MODIFIED:20251211T123501Z
UID:229318-1791460800-1791478800@www.monika-endres-jotter.de
SUMMARY:Anreise Audiometrieschulung
DESCRIPTION:
URL:https://www.monika-endres-jotter.de/schulung/anreise-audiometrieschulung-12/
LOCATION:Hannover
CATEGORIES:auric-direct GmbH
END:VEVENT
BEGIN:VEVENT
DTSTART;TZID=UTC:20261009T114500
DTEND;TZID=UTC:20261009T171500
DTSTAMP:20260421T085936
CREATED:20251208T114310Z
LAST-MODIFIED:20251211T123421Z
UID:229320-1791546300-1791566100@www.monika-endres-jotter.de
SUMMARY:Audiometrie für Anfänger
DESCRIPTION:
URL:https://www.monika-endres-jotter.de/schulung/audiometrie-fuer-anfaenger-32/
LOCATION:Hannover
CATEGORIES:auric-direct GmbH
END:VEVENT
BEGIN:VEVENT
DTSTART;TZID=UTC:20261010T084500
DTEND;TZID=UTC:20261010T161500
DTSTAMP:20260421T085936
CREATED:20251208T114442Z
LAST-MODIFIED:20251211T123341Z
UID:229322-1791621900-1791648900@www.monika-endres-jotter.de
SUMMARY:Audiometrie für Fortgesschrittene
DESCRIPTION:
URL:https://www.monika-endres-jotter.de/schulung/audiometrie-fuer-fortgesschrittene/
LOCATION:Hannover
CATEGORIES:auric-direct GmbH
END:VEVENT
BEGIN:VEVENT
DTSTART;TZID=UTC:20261011T100000
DTEND;TZID=UTC:20261011T160000
DTSTAMP:20260421T085936
CREATED:20251208T114627Z
LAST-MODIFIED:20251211T134725Z
UID:229324-1791712800-1791734400@www.monika-endres-jotter.de
SUMMARY:Rückreise Audiometrieschulung
DESCRIPTION:
URL:https://www.monika-endres-jotter.de/schulung/rueckreise-audiometrieschulung-10/
LOCATION:Hannover
CATEGORIES:auric-direct GmbH
END:VEVENT
BEGIN:VEVENT
DTSTART;TZID=UTC:20261016T120000
DTEND;TZID=UTC:20261016T163000
DTSTAMP:20260421T085936
CREATED:20260122T105109Z
LAST-MODIFIED:20260122T105109Z
UID:229406-1792152000-1792168200@www.monika-endres-jotter.de
SUMMARY:Anreise Vestibularis-Diagnostik
DESCRIPTION:
URL:https://www.monika-endres-jotter.de/schulung/anreise-vestibularis-diagnostik-12/
LOCATION:Augsburg
CATEGORIES:Natus Medical GmbH
END:VEVENT
BEGIN:VEVENT
DTSTART;TZID=UTC:20261017T084500
DTEND;TZID=UTC:20261017T163000
DTSTAMP:20260421T085936
CREATED:20260122T102933Z
LAST-MODIFIED:20260122T102933Z
UID:229389-1792226700-1792254600@www.monika-endres-jotter.de
SUMMARY:Vestibularis-Diagnostik
DESCRIPTION:
URL:https://www.monika-endres-jotter.de/schulung/vestibularis-diagnostik-25/
LOCATION:Augsburg
CATEGORIES:Natus Medical GmbH
END:VEVENT
BEGIN:VEVENT
DTSTART;TZID=UTC:20261018T100000
DTEND;TZID=UTC:20261018T163000
DTSTAMP:20260421T085936
CREATED:20260122T105235Z
LAST-MODIFIED:20260122T105235Z
UID:229408-1792317600-1792341000@www.monika-endres-jotter.de
SUMMARY:Rückreise Vestibularis-Diagnostik
DESCRIPTION:
URL:https://www.monika-endres-jotter.de/schulung/rueckreise-vestibularis-diagnostik-11/
LOCATION:Augsburg
CATEGORIES:Natus Medical GmbH
END:VEVENT
BEGIN:VEVENT
DTSTART;TZID=UTC:20261023T133000
DTEND;TZID=UTC:20261023T170000
DTSTAMP:20260421T085936
CREATED:20260129T121449Z
LAST-MODIFIED:20260129T121527Z
UID:229420-1792762200-1792774800@www.monika-endres-jotter.de
SUMMARY:Praxisschulung
DESCRIPTION:
URL:https://www.monika-endres-jotter.de/schulung/praxisschulung-59/
LOCATION:Bensheim
CATEGORIES:Inhouse-Schulung
END:VEVENT
BEGIN:VEVENT
DTSTART;VALUE=DATE:20261028
DTEND;VALUE=DATE:20261101
DTSTAMP:20260421T085936
CREATED:20251208T114840Z
LAST-MODIFIED:20251211T123151Z
UID:229326-1793145600-1793491199@www.monika-endres-jotter.de
SUMMARY:HNO Kongress
DESCRIPTION:
URL:https://www.monika-endres-jotter.de/schulung/hno-kongress-2/
LOCATION:Mannheim
CATEGORIES:HNO Fortbildungsgesellschaft
END:VEVENT
BEGIN:VEVENT
DTSTART;TZID=UTC:20261105T100000
DTEND;TZID=UTC:20261105T170000
DTSTAMP:20260421T085936
CREATED:20251208T115013Z
LAST-MODIFIED:20251211T123110Z
UID:229328-1793872800-1793898000@www.monika-endres-jotter.de
SUMMARY:Anreise Audiometrieschulung
DESCRIPTION:
URL:https://www.monika-endres-jotter.de/schulung/anreise-audiometrieschulung-13/
LOCATION:Berlin
CATEGORIES:auric-direct GmbH
END:VEVENT
BEGIN:VEVENT
DTSTART;TZID=UTC:20261106T114500
DTEND;TZID=UTC:20261106T171500
DTSTAMP:20260421T085936
CREATED:20251208T115200Z
LAST-MODIFIED:20251211T123042Z
UID:229330-1793965500-1793985300@www.monika-endres-jotter.de
SUMMARY:Audiometrie für Anfänger
DESCRIPTION:
URL:https://www.monika-endres-jotter.de/schulung/audiometrie-fuer-anfaenger-33/
LOCATION:Berlin
CATEGORIES:auric-direct GmbH
END:VEVENT
BEGIN:VEVENT
DTSTART;TZID=UTC:20261107T084500
DTEND;TZID=UTC:20261107T161500
DTSTAMP:20260421T085936
CREATED:20251208T115333Z
LAST-MODIFIED:20251211T123017Z
UID:229332-1794041100-1794068100@www.monika-endres-jotter.de
SUMMARY:Audiometrie für Fortgeschrittene
DESCRIPTION:
URL:https://www.monika-endres-jotter.de/schulung/audiometrie-fuer-fortgeschrittene-43/
LOCATION:Berlin
CATEGORIES:auric-direct GmbH
END:VEVENT
BEGIN:VEVENT
DTSTART;TZID=UTC:20261108T100000
DTEND;TZID=UTC:20261108T170000
DTSTAMP:20260421T085936
CREATED:20251208T115509Z
LAST-MODIFIED:20251211T122946Z
UID:229334-1794132000-1794157200@www.monika-endres-jotter.de
SUMMARY:Rückreise Audiometrieschulung
DESCRIPTION:
URL:https://www.monika-endres-jotter.de/schulung/rueckreise-audiometrieschulung-11/
LOCATION:Berlin
CATEGORIES:auric-direct GmbH
END:VEVENT
BEGIN:VEVENT
DTSTART;TZID=UTC:20261113T090000
DTEND;TZID=UTC:20261113T160000
DTSTAMP:20260421T085936
CREATED:20260314T093102Z
LAST-MODIFIED:20260314T093102Z
UID:229475-1794560400-1794585600@www.monika-endres-jotter.de
SUMMARY:Praxisschulung
DESCRIPTION:
URL:https://www.monika-endres-jotter.de/schulung/praxisschulung-65/
LOCATION:Mühlacker
CATEGORIES:Inhouse-Schulung
END:VEVENT
BEGIN:VEVENT
DTSTART;TZID=UTC:20261114T083000
DTEND;TZID=UTC:20261114T153000
DTSTAMP:20260421T085936
CREATED:20260314T093216Z
LAST-MODIFIED:20260314T093216Z
UID:229477-1794645000-1794670200@www.monika-endres-jotter.de
SUMMARY:Praxisschulung
DESCRIPTION:
URL:https://www.monika-endres-jotter.de/schulung/praxisschulung-66/
LOCATION:Vaihingen
CATEGORIES:Inhouse-Schulung
END:VEVENT
BEGIN:VEVENT
DTSTART;TZID=UTC:20261119T140000
DTEND;TZID=UTC:20261119T170000
DTSTAMP:20260421T085936
CREATED:20251208T115655Z
LAST-MODIFIED:20251211T122917Z
UID:229336-1795096800-1795107600@www.monika-endres-jotter.de
SUMMARY:Anreise Audiometrieschulung
DESCRIPTION:
URL:https://www.monika-endres-jotter.de/schulung/anreise-audiometrieschulung-14/
LOCATION:Baden-Baden
CATEGORIES:auric-direct GmbH
END:VEVENT
BEGIN:VEVENT
DTSTART;TZID=UTC:20261120T114500
DTEND;TZID=UTC:20261120T171500
DTSTAMP:20260421T085936
CREATED:20251208T115809Z
LAST-MODIFIED:20251211T122845Z
UID:229339-1795175100-1795194900@www.monika-endres-jotter.de
SUMMARY:Audiometrie für Anfänger
DESCRIPTION:
URL:https://www.monika-endres-jotter.de/schulung/audiometrie-fuer-anfaenger-34/
LOCATION:Baden-Baden
CATEGORIES:auric-direct GmbH
END:VEVENT
BEGIN:VEVENT
DTSTART;TZID=UTC:20261121T084500
DTEND;TZID=UTC:20261121T161500
DTSTAMP:20260421T085936
CREATED:20251208T115920Z
LAST-MODIFIED:20251211T134616Z
UID:229341-1795250700-1795277700@www.monika-endres-jotter.de
SUMMARY:Audiometrie für Forgeschrittene
DESCRIPTION:
URL:https://www.monika-endres-jotter.de/schulung/audiometrie-fuer-forgeschrittene/
LOCATION:Baden-Baden
CATEGORIES:auric-direct GmbH
END:VEVENT
BEGIN:VEVENT
DTSTART;TZID=UTC:20261121T164500
DTEND;TZID=UTC:20261121T194500
DTSTAMP:20260421T085936
CREATED:20251208T120031Z
LAST-MODIFIED:20251211T122637Z
UID:229343-1795279500-1795290300@www.monika-endres-jotter.de
SUMMARY:Rückreise Audiometrieschulung
DESCRIPTION:
URL:https://www.monika-endres-jotter.de/schulung/rueckreise-audiometrieschulung-12/
LOCATION:Baden-Baden
CATEGORIES:auric-direct GmbH
END:VEVENT
BEGIN:VEVENT
DTSTART;TZID=UTC:20261126T130000
DTEND;TZID=UTC:20261126T170000
DTSTAMP:20260421T085936
CREATED:20251208T120141Z
LAST-MODIFIED:20251211T122559Z
UID:229345-1795698000-1795712400@www.monika-endres-jotter.de
SUMMARY:Anreise Audiometrieschulung
DESCRIPTION:
URL:https://www.monika-endres-jotter.de/schulung/anreise-audiometrieschulung-15/
LOCATION:Düsseldorf
CATEGORIES:auric-direct GmbH
END:VEVENT
BEGIN:VEVENT
DTSTART;TZID=UTC:20261127T114500
DTEND;TZID=UTC:20261127T171500
DTSTAMP:20260421T085936
CREATED:20251208T120246Z
LAST-MODIFIED:20251211T122320Z
UID:229347-1795779900-1795799700@www.monika-endres-jotter.de
SUMMARY:Audiometrie für Anfänger
DESCRIPTION:
URL:https://www.monika-endres-jotter.de/schulung/audiometrie-fuer-anfaenger-35/
LOCATION:Düsseldorf
CATEGORIES:auric-direct GmbH
END:VEVENT
BEGIN:VEVENT
DTSTART;TZID=UTC:20261128T084500
DTEND;TZID=UTC:20261128T161500
DTSTAMP:20260421T085936
CREATED:20251208T120724Z
LAST-MODIFIED:20251211T122215Z
UID:229351-1795855500-1795882500@www.monika-endres-jotter.de
SUMMARY:Audiometrie für Fortgeschrittene
DESCRIPTION:
URL:https://www.monika-endres-jotter.de/schulung/audiometrie-fuer-fortgeschrittene-45/
LOCATION:Düsseldorf
CATEGORIES:auric-direct GmbH
END:VEVENT
END:VCALENDAR