BEGIN:VCALENDAR
VERSION:2.0
PRODID:-//Audiometrie-Schulung und Seminare für HNO Fachangestellte - ECPv6.15.20//NONSGML v1.0//EN
CALSCALE:GREGORIAN
METHOD:PUBLISH
X-WR-CALNAME:Audiometrie-Schulung und Seminare für HNO Fachangestellte
X-ORIGINAL-URL:https://www.monika-endres-jotter.de
X-WR-CALDESC:Veranstaltungen für Audiometrie-Schulung und Seminare für HNO Fachangestellte
REFRESH-INTERVAL;VALUE=DURATION:PT1H
X-Robots-Tag:noindex
X-PUBLISHED-TTL:PT1H
BEGIN:VTIMEZONE
TZID:UTC
BEGIN:STANDARD
TZOFFSETFROM:+0000
TZOFFSETTO:+0000
TZNAME:UTC
DTSTART:20220101T000000
END:STANDARD
END:VTIMEZONE
BEGIN:VEVENT
DTSTART;VALUE=DATE:20231004
DTEND;VALUE=DATE:20231005
DTSTAMP:20260424T103034
CREATED:20230828T101021Z
LAST-MODIFIED:20230913T094638Z
UID:227890-1696377600-1696463999@www.monika-endres-jotter.de
SUMMARY:Praxisschulung
DESCRIPTION:
URL:https://www.monika-endres-jotter.de/schulung/praxissculung/
LOCATION:Ludwigshafen a. R.
CATEGORIES:Inhouse-Schulung
END:VEVENT
BEGIN:VEVENT
DTSTART;VALUE=DATE:20231007
DTEND;VALUE=DATE:20231008
DTSTAMP:20260424T103034
CREATED:20230125T152211Z
LAST-MODIFIED:20230913T093022Z
UID:225372-1696636800-1696723199@www.monika-endres-jotter.de
SUMMARY:Vestibularis-Diagnostik
DESCRIPTION:
URL:https://www.monika-endres-jotter.de/schulung/vestibularis-diagnostik-5/
LOCATION:Regensburg
CATEGORIES:Natus Medical GmbH
END:VEVENT
BEGIN:VEVENT
DTSTART;VALUE=DATE:20231011
DTEND;VALUE=DATE:20231012
DTSTAMP:20260424T103034
CREATED:20230404T123916Z
LAST-MODIFIED:20231002T130242Z
UID:227675-1696982400-1697068799@www.monika-endres-jotter.de
SUMMARY:HNO Aufbauschulung
DESCRIPTION:
URL:https://www.monika-endres-jotter.de/schulung/hno-aufbauschulung/
LOCATION:Hamburg
CATEGORIES:Asklepios Kliniken St. Georg
END:VEVENT
BEGIN:VEVENT
DTSTART;VALUE=DATE:20231014
DTEND;VALUE=DATE:20231015
DTSTAMP:20260424T103034
CREATED:20230125T134244Z
LAST-MODIFIED:20230510T101040Z
UID:225275-1697241600-1697327999@www.monika-endres-jotter.de
SUMMARY:Vestibularis‐Diagnostik
DESCRIPTION:
URL:https://www.monika-endres-jotter.de/schulung/vestibularis%e2%80%90diagnostik-3/
LOCATION:Hamburg
CATEGORIES:auric-direct GmbH
END:VEVENT
BEGIN:VEVENT
DTSTART;VALUE=DATE:20231017
DTEND;VALUE=DATE:20231018
DTSTAMP:20260424T103034
CREATED:20230622T153650Z
LAST-MODIFIED:20230731T075640Z
UID:227792-1697500800-1697587199@www.monika-endres-jotter.de
SUMMARY:Privat
DESCRIPTION:
URL:https://www.monika-endres-jotter.de/schulung/privat-5/
END:VEVENT
BEGIN:VEVENT
DTSTART;VALUE=DATE:20231020
DTEND;VALUE=DATE:20231021
DTSTAMP:20260424T103034
CREATED:20230510T063341Z
LAST-MODIFIED:20230704T085950Z
UID:227766-1697760000-1697846399@www.monika-endres-jotter.de
SUMMARY:Praxisschulung
DESCRIPTION:
URL:https://www.monika-endres-jotter.de/schulung/praxisschulung/
LOCATION:Mühlacker
CATEGORIES:Inhouse-Schulung
END:VEVENT
BEGIN:VEVENT
DTSTART;VALUE=DATE:20231021
DTEND;VALUE=DATE:20231022
DTSTAMP:20260424T103034
CREATED:20230623T065502Z
LAST-MODIFIED:20230704T085902Z
UID:227794-1697846400-1697932799@www.monika-endres-jotter.de
SUMMARY:Praxisschulung
DESCRIPTION:
URL:https://www.monika-endres-jotter.de/schulung/praxisschulung-3/
LOCATION:Mühlacker
CATEGORIES:Inhouse-Schulung
END:VEVENT
BEGIN:VEVENT
DTSTART;VALUE=DATE:20231025
DTEND;VALUE=DATE:20231026
DTSTAMP:20260424T103034
CREATED:20230414T105848Z
LAST-MODIFIED:20230510T063937Z
UID:227742-1698192000-1698278399@www.monika-endres-jotter.de
SUMMARY:HNO Kongress: Audiometrie 1
DESCRIPTION:
URL:https://www.monika-endres-jotter.de/schulung/audiometrie-1/
LOCATION:Mannheim
CATEGORIES:HNO Fortbildungsgesellschaft
END:VEVENT
BEGIN:VEVENT
DTSTART;VALUE=DATE:20231026
DTEND;VALUE=DATE:20231027
DTSTAMP:20260424T103034
CREATED:20230414T110148Z
LAST-MODIFIED:20230510T064049Z
UID:227746-1698278400-1698364799@www.monika-endres-jotter.de
SUMMARY:HNO-Kongress: Audiometrie 2
DESCRIPTION:
URL:https://www.monika-endres-jotter.de/schulung/audiometrie-2/
LOCATION:Mannheim
CATEGORIES:HNO Fortbildungsgesellschaft
END:VEVENT
BEGIN:VEVENT
DTSTART;VALUE=DATE:20231027
DTEND;VALUE=DATE:20231028
DTSTAMP:20260424T103034
CREATED:20230414T110333Z
LAST-MODIFIED:20230510T064138Z
UID:227750-1698364800-1698451199@www.monika-endres-jotter.de
SUMMARY:HNO-Kongress: Vestibularisdiagnostik für Anfänger (Crash-Kurs)
DESCRIPTION:
URL:https://www.monika-endres-jotter.de/schulung/vestibularisdiagnostik-fuer-anfaenger-crash-kurs/
LOCATION:Mannheim
CATEGORIES:HNO Fortbildungsgesellschaft
END:VEVENT
BEGIN:VEVENT
DTSTART;VALUE=DATE:20231028
DTEND;VALUE=DATE:20231029
DTSTAMP:20260424T103034
CREATED:20230510T064150Z
LAST-MODIFIED:20230510T064257Z
UID:227773-1698451200-1698537599@www.monika-endres-jotter.de
SUMMARY:HNO-Kongress: Audiometrie 4
DESCRIPTION:
URL:https://www.monika-endres-jotter.de/schulung/hno-kongress-audiometrie-4/
LOCATION:Mannheim
CATEGORIES:HNO Fortbildungsgesellschaft
END:VEVENT
END:VCALENDAR