BEGIN:VCALENDAR
VERSION:2.0
PRODID:-//Audiometrie-Schulung und Seminare für HNO Fachangestellte - ECPv6.15.20//NONSGML v1.0//EN
CALSCALE:GREGORIAN
METHOD:PUBLISH
X-WR-CALNAME:Audiometrie-Schulung und Seminare für HNO Fachangestellte
X-ORIGINAL-URL:https://www.monika-endres-jotter.de
X-WR-CALDESC:Veranstaltungen für Audiometrie-Schulung und Seminare für HNO Fachangestellte
REFRESH-INTERVAL;VALUE=DURATION:PT1H
X-Robots-Tag:noindex
X-PUBLISHED-TTL:PT1H
BEGIN:VTIMEZONE
TZID:UTC
BEGIN:STANDARD
TZOFFSETFROM:+0000
TZOFFSETTO:+0000
TZNAME:UTC
DTSTART:20220101T000000
END:STANDARD
END:VTIMEZONE
BEGIN:VEVENT
DTSTART;VALUE=DATE:20231103
DTEND;VALUE=DATE:20231104
DTSTAMP:20260422T084535
CREATED:20230828T101257Z
LAST-MODIFIED:20230913T094533Z
UID:227893-1698969600-1699055999@www.monika-endres-jotter.de
SUMMARY:Praxisschulung
DESCRIPTION:
URL:https://www.monika-endres-jotter.de/schulung/praxisschulung-7/
LOCATION:Ludwigshafen a. R.
CATEGORIES:Inhouse-Schulung
END:VEVENT
BEGIN:VEVENT
DTSTART;VALUE=DATE:20231108
DTEND;VALUE=DATE:20231109
DTSTAMP:20260422T084535
CREATED:20230828T101436Z
LAST-MODIFIED:20230828T101436Z
UID:227895-1699401600-1699487999@www.monika-endres-jotter.de
SUMMARY:Privat
DESCRIPTION:
URL:https://www.monika-endres-jotter.de/schulung/privat-8/
CATEGORIES:Audiometrieschulung Endres-Jotter
END:VEVENT
BEGIN:VEVENT
DTSTART;VALUE=DATE:20231110
DTEND;VALUE=DATE:20231111
DTSTAMP:20260422T084535
CREATED:20230125T134317Z
LAST-MODIFIED:20230127T085042Z
UID:225277-1699574400-1699660799@www.monika-endres-jotter.de
SUMMARY:Audiometrie für Anfänger
DESCRIPTION:
URL:https://www.monika-endres-jotter.de/schulung/audiometrie-fuer-anfaenger-10/
LOCATION:Leipzig
CATEGORIES:auric-direct GmbH
END:VEVENT
BEGIN:VEVENT
DTSTART;VALUE=DATE:20231111
DTEND;VALUE=DATE:20231112
DTSTAMP:20260422T084535
CREATED:20230125T134346Z
LAST-MODIFIED:20230127T085042Z
UID:225280-1699660800-1699747199@www.monika-endres-jotter.de
SUMMARY:Audiometrie für Fortgeschrittene
DESCRIPTION:
URL:https://www.monika-endres-jotter.de/schulung/audiometrie-fuer-fortgeschrittene-10/
LOCATION:Leipzig
CATEGORIES:auric-direct GmbH
END:VEVENT
BEGIN:VEVENT
DTSTART;VALUE=DATE:20231124
DTEND;VALUE=DATE:20231125
DTSTAMP:20260422T084535
CREATED:20230623T065623Z
LAST-MODIFIED:20230704T085756Z
UID:227796-1700784000-1700870399@www.monika-endres-jotter.de
SUMMARY:Praxisschulung
DESCRIPTION:
URL:https://www.monika-endres-jotter.de/schulung/praxisschulung-4/
LOCATION:Mühlacker
CATEGORIES:Inhouse-Schulung
END:VEVENT
BEGIN:VEVENT
DTSTART;VALUE=DATE:20231125
DTEND;VALUE=DATE:20231126
DTSTAMP:20260422T084535
CREATED:20230125T134414Z
LAST-MODIFIED:20230623T065129Z
UID:225282-1700870400-1700956799@www.monika-endres-jotter.de
SUMMARY:Vestibularis‐Diagnostik
DESCRIPTION:
URL:https://www.monika-endres-jotter.de/schulung/vestibularis%e2%80%90diagnostik-4/
LOCATION:Köln
CATEGORIES:auric-direct GmbH
END:VEVENT
END:VCALENDAR