BEGIN:VCALENDAR
VERSION:2.0
PRODID:-//Audiometrie-Schulung und Seminare für HNO Fachangestellte - ECPv6.15.20//NONSGML v1.0//EN
CALSCALE:GREGORIAN
METHOD:PUBLISH
X-ORIGINAL-URL:https://www.monika-endres-jotter.de
X-WR-CALDESC:Veranstaltungen für Audiometrie-Schulung und Seminare für HNO Fachangestellte
REFRESH-INTERVAL;VALUE=DURATION:PT1H
X-Robots-Tag:noindex
X-PUBLISHED-TTL:PT1H
BEGIN:VTIMEZONE
TZID:UTC
BEGIN:STANDARD
TZOFFSETFROM:+0000
TZOFFSETTO:+0000
TZNAME:UTC
DTSTART:20220101T000000
END:STANDARD
END:VTIMEZONE
BEGIN:VEVENT
DTSTART;VALUE=DATE:20231201
DTEND;VALUE=DATE:20231202
DTSTAMP:20260422T070402
CREATED:20230125T134450Z
LAST-MODIFIED:20230127T085042Z
UID:225285-1701388800-1701475199@www.monika-endres-jotter.de
SUMMARY:Audiometrie für Anfänger
DESCRIPTION:
URL:https://www.monika-endres-jotter.de/schulung/vestibularis%e2%80%90diagnostik-5/
LOCATION:Nürnberg
CATEGORIES:auric-direct GmbH
END:VEVENT
BEGIN:VEVENT
DTSTART;VALUE=DATE:20231202
DTEND;VALUE=DATE:20231203
DTSTAMP:20260422T070402
CREATED:20230125T134530Z
LAST-MODIFIED:20230127T085042Z
UID:225288-1701475200-1701561599@www.monika-endres-jotter.de
SUMMARY:Audiometrie für Fortgeschrittene
DESCRIPTION:
URL:https://www.monika-endres-jotter.de/schulung/audiometrie-fuer-fortgeschrittene-11/
LOCATION:Nürnberg
CATEGORIES:auric-direct GmbH
END:VEVENT
BEGIN:VEVENT
DTSTART;VALUE=DATE:20231218
DTEND;VALUE=DATE:20231219
DTSTAMP:20260422T070402
CREATED:20230704T084351Z
LAST-MODIFIED:20231022T081557Z
UID:227802-1702857600-1702943999@www.monika-endres-jotter.de
SUMMARY:Inhouse-Schulung Arbeitsmedizin
DESCRIPTION:
URL:https://www.monika-endres-jotter.de/schulung/inhouse-schulung-arbeitsmedizin/
LOCATION:Regensburg
CATEGORIES:Inhouse-Schulung
END:VEVENT
END:VCALENDAR