BEGIN:VCALENDAR
VERSION:2.0
PRODID:-//Audiometrie-Schulung und Seminare für HNO Fachangestellte - ECPv6.15.20//NONSGML v1.0//EN
CALSCALE:GREGORIAN
METHOD:PUBLISH
X-ORIGINAL-URL:https://www.monika-endres-jotter.de
X-WR-CALDESC:Veranstaltungen für Audiometrie-Schulung und Seminare für HNO Fachangestellte
REFRESH-INTERVAL;VALUE=DURATION:PT1H
X-Robots-Tag:noindex
X-PUBLISHED-TTL:PT1H
BEGIN:VTIMEZONE
TZID:UTC
BEGIN:STANDARD
TZOFFSETFROM:+0000
TZOFFSETTO:+0000
TZNAME:UTC
DTSTART:20230101T000000
END:STANDARD
END:VTIMEZONE
BEGIN:VEVENT
DTSTART;VALUE=DATE:20240112
DTEND;VALUE=DATE:20240113
DTSTAMP:20260422T052403
CREATED:20230913T093806Z
LAST-MODIFIED:20230913T093806Z
UID:227901-1705017600-1705103999@www.monika-endres-jotter.de
SUMMARY:Praxisschulung - Einführung in die Audiometrie
DESCRIPTION:
URL:https://www.monika-endres-jotter.de/schulung/praxisschulung-einfuehrung-in-die-audiometrie/
LOCATION:Greifswald
CATEGORIES:Inhouse-Schulung
END:VEVENT
BEGIN:VEVENT
DTSTART;VALUE=DATE:20240113
DTEND;VALUE=DATE:20240114
DTSTAMP:20260422T052403
CREATED:20230913T093929Z
LAST-MODIFIED:20230913T093929Z
UID:227904-1705104000-1705190399@www.monika-endres-jotter.de
SUMMARY:Praxisschulung - Audiometrie für Fortgeschrittene
DESCRIPTION:
URL:https://www.monika-endres-jotter.de/schulung/praxisschulung-audiometrie-fuer-fortgeschrittene/
LOCATION:Greifswald
CATEGORIES:Inhouse-Schulung
END:VEVENT
BEGIN:VEVENT
DTSTART;VALUE=DATE:20240119
DTEND;VALUE=DATE:20240120
DTSTAMP:20260422T052403
CREATED:20230913T093500Z
LAST-MODIFIED:20230913T093500Z
UID:227898-1705622400-1705708799@www.monika-endres-jotter.de
SUMMARY:Praxisschulung
DESCRIPTION:
URL:https://www.monika-endres-jotter.de/schulung/praxisschulung-8/
LOCATION:Neustadt a. d. Weinstraße
CATEGORIES:Inhouse-Schulung
END:VEVENT
BEGIN:VEVENT
DTSTART;VALUE=DATE:20240124
DTEND;VALUE=DATE:20240125
DTSTAMP:20260422T052403
CREATED:20231211T031237Z
LAST-MODIFIED:20231211T031414Z
UID:228091-1706054400-1706140799@www.monika-endres-jotter.de
SUMMARY:Praxisschulung
DESCRIPTION:
URL:https://www.monika-endres-jotter.de/schulung/praxisschulung-9/
LOCATION:Gladenbach
CATEGORIES:Inhouse-Schulung
END:VEVENT
END:VCALENDAR