BEGIN:VCALENDAR
VERSION:2.0
PRODID:-//Audiometrie-Schulung und Seminare für HNO Fachangestellte - ECPv6.15.20//NONSGML v1.0//EN
CALSCALE:GREGORIAN
METHOD:PUBLISH
X-ORIGINAL-URL:https://www.monika-endres-jotter.de
X-WR-CALDESC:Veranstaltungen für Audiometrie-Schulung und Seminare für HNO Fachangestellte
REFRESH-INTERVAL;VALUE=DURATION:PT1H
X-Robots-Tag:noindex
X-PUBLISHED-TTL:PT1H
BEGIN:VTIMEZONE
TZID:UTC
BEGIN:STANDARD
TZOFFSETFROM:+0000
TZOFFSETTO:+0000
TZNAME:UTC
DTSTART:20230101T000000
END:STANDARD
END:VTIMEZONE
BEGIN:VEVENT
DTSTART;VALUE=DATE:20240301
DTEND;VALUE=DATE:20240302
DTSTAMP:20260422T013105
CREATED:20231020T130726Z
LAST-MODIFIED:20240204T125140Z
UID:227954-1709251200-1709337599@www.monika-endres-jotter.de
SUMMARY:Audiometrie für Anfänger
DESCRIPTION:
URL:https://www.monika-endres-jotter.de/schulung/audiometrie-fuer-anfaenger-13/
LOCATION:Mannheim
CATEGORIES:auric-direct GmbH
END:VEVENT
BEGIN:VEVENT
DTSTART;VALUE=DATE:20240302
DTEND;VALUE=DATE:20240303
DTSTAMP:20260422T013105
CREATED:20231020T130829Z
LAST-MODIFIED:20231020T131140Z
UID:227956-1709337600-1709423999@www.monika-endres-jotter.de
SUMMARY:Audiometrie für Fortgeschrittene
DESCRIPTION:
URL:https://www.monika-endres-jotter.de/schulung/audiometrie-fuer-fortgeschrittene-12/
LOCATION:Mannheim
CATEGORIES:auric-direct GmbH
END:VEVENT
BEGIN:VEVENT
DTSTART;VALUE=DATE:20240309
DTEND;VALUE=DATE:20240310
DTSTAMP:20260422T013105
CREATED:20231124T104759Z
LAST-MODIFIED:20231124T104759Z
UID:228051-1709942400-1710028799@www.monika-endres-jotter.de
SUMMARY:Vestibularis-Diagnostik
DESCRIPTION:
URL:https://www.monika-endres-jotter.de/schulung/vestibularis-diagnostik-11/
LOCATION:Köln
CATEGORIES:Natus Medical GmbH
END:VEVENT
BEGIN:VEVENT
DTSTART;VALUE=DATE:20240316
DTEND;VALUE=DATE:20240317
DTSTAMP:20260422T013105
CREATED:20240227T103701Z
LAST-MODIFIED:20240307T114241Z
UID:228262-1710547200-1710633599@www.monika-endres-jotter.de
SUMMARY:Praxisschulung
DESCRIPTION:
URL:https://www.monika-endres-jotter.de/schulung/praxisschulung-12/
LOCATION:Dachau
CATEGORIES:Inhouse-Schulung
END:VEVENT
BEGIN:VEVENT
DTSTART;VALUE=DATE:20240323
DTEND;VALUE=DATE:20240324
DTSTAMP:20260422T013105
CREATED:20240227T103812Z
LAST-MODIFIED:20240227T103812Z
UID:228264-1711152000-1711238399@www.monika-endres-jotter.de
SUMMARY:Praxisschulung
DESCRIPTION:
URL:https://www.monika-endres-jotter.de/schulung/praxisschulung-13/
LOCATION:Oberschleißheim
CATEGORIES:Inhouse-Schulung
END:VEVENT
END:VCALENDAR