BEGIN:VCALENDAR
VERSION:2.0
PRODID:-//Audiometrie-Schulung und Seminare für HNO Fachangestellte - ECPv6.15.20//NONSGML v1.0//EN
CALSCALE:GREGORIAN
METHOD:PUBLISH
X-ORIGINAL-URL:https://www.monika-endres-jotter.de
X-WR-CALDESC:Veranstaltungen für Audiometrie-Schulung und Seminare für HNO Fachangestellte
REFRESH-INTERVAL;VALUE=DURATION:PT1H
X-Robots-Tag:noindex
X-PUBLISHED-TTL:PT1H
BEGIN:VTIMEZONE
TZID:UTC
BEGIN:STANDARD
TZOFFSETFROM:+0000
TZOFFSETTO:+0000
TZNAME:UTC
DTSTART:20230101T000000
END:STANDARD
END:VTIMEZONE
BEGIN:VEVENT
DTSTART;VALUE=DATE:20240504
DTEND;VALUE=DATE:20240509
DTSTAMP:20260421T221336
CREATED:20240109T094834Z
LAST-MODIFIED:20240109T094834Z
UID:228122-1714780800-1715212799@www.monika-endres-jotter.de
SUMMARY:Barcelona
DESCRIPTION:
URL:https://www.monika-endres-jotter.de/schulung/barcelona/
CATEGORIES:Audiometrieschulung Endres-Jotter
END:VEVENT
BEGIN:VEVENT
DTSTART;VALUE=DATE:20240515
DTEND;VALUE=DATE:20240516
DTSTAMP:20260421T221336
CREATED:20240314T095227Z
LAST-MODIFIED:20240314T095227Z
UID:228400-1715731200-1715817599@www.monika-endres-jotter.de
SUMMARY:Praxisschulung
DESCRIPTION:
URL:https://www.monika-endres-jotter.de/schulung/praxisschulung-18/
LOCATION:Worms
CATEGORIES:Inhouse-Schulung
END:VEVENT
BEGIN:VEVENT
DTSTART;VALUE=DATE:20240517
DTEND;VALUE=DATE:20240518
DTSTAMP:20260421T221336
CREATED:20240429T135721Z
LAST-MODIFIED:20240429T135721Z
UID:228428-1715904000-1715990399@www.monika-endres-jotter.de
SUMMARY:Praxisschulung
DESCRIPTION:
URL:https://www.monika-endres-jotter.de/schulung/praxisschulung-20/
LOCATION:Rendsburg
CATEGORIES:Audiometrieschulung Endres-Jotter
END:VEVENT
BEGIN:VEVENT
DTSTART;VALUE=DATE:20240518
DTEND;VALUE=DATE:20240519
DTSTAMP:20260421T221336
CREATED:20240313T115347Z
LAST-MODIFIED:20240429T135558Z
UID:228398-1715990400-1716076799@www.monika-endres-jotter.de
SUMMARY:Praxisschulung
DESCRIPTION:
URL:https://www.monika-endres-jotter.de/schulung/praxisschulung-17/
LOCATION:Flensburg
CATEGORIES:Audiometrieschulung Endres-Jotter
END:VEVENT
BEGIN:VEVENT
DTSTART;VALUE=DATE:20240525
DTEND;VALUE=DATE:20240526
DTSTAMP:20260421T221336
CREATED:20231020T132210Z
LAST-MODIFIED:20231020T132210Z
UID:227973-1716595200-1716681599@www.monika-endres-jotter.de
SUMMARY:Vestibularis-Diagnostik
DESCRIPTION:
URL:https://www.monika-endres-jotter.de/schulung/vestibularis-diagnostik-7/
LOCATION:Düsseldorf
CATEGORIES:auric-direct GmbH
END:VEVENT
END:VCALENDAR