BEGIN:VCALENDAR
VERSION:2.0
PRODID:-//Audiometrie-Schulung und Seminare für HNO Fachangestellte - ECPv6.15.20//NONSGML v1.0//EN
CALSCALE:GREGORIAN
METHOD:PUBLISH
X-WR-CALNAME:Audiometrie-Schulung und Seminare für HNO Fachangestellte
X-ORIGINAL-URL:https://www.monika-endres-jotter.de
X-WR-CALDESC:Veranstaltungen für Audiometrie-Schulung und Seminare für HNO Fachangestellte
REFRESH-INTERVAL;VALUE=DURATION:PT1H
X-Robots-Tag:noindex
X-PUBLISHED-TTL:PT1H
BEGIN:VTIMEZONE
TZID:UTC
BEGIN:STANDARD
TZOFFSETFROM:+0000
TZOFFSETTO:+0000
TZNAME:UTC
DTSTART:20230101T000000
END:STANDARD
END:VTIMEZONE
BEGIN:VEVENT
DTSTART;VALUE=DATE:20241001
DTEND;VALUE=DATE:20241002
DTSTAMP:20260421T133316
CREATED:20240829T102147Z
LAST-MODIFIED:20240902T121154Z
UID:228493-1727740800-1727827199@www.monika-endres-jotter.de
SUMMARY:Praxisschulung
DESCRIPTION:
URL:https://www.monika-endres-jotter.de/schulung/praxisschulung-24/
LOCATION:Karlstadt
CATEGORIES:Inhouse-Schulung
END:VEVENT
BEGIN:VEVENT
DTSTART;VALUE=DATE:20241002
DTEND;VALUE=DATE:20241003
DTSTAMP:20260421T133316
CREATED:20240829T102241Z
LAST-MODIFIED:20240902T121237Z
UID:228495-1727827200-1727913599@www.monika-endres-jotter.de
SUMMARY:Praxisschulung
DESCRIPTION:
URL:https://www.monika-endres-jotter.de/schulung/praxisschulung-25/
LOCATION:Karlstadt
CATEGORIES:Inhouse-Schulung
END:VEVENT
BEGIN:VEVENT
DTSTART;VALUE=DATE:20241011
DTEND;VALUE=DATE:20241012
DTSTAMP:20260421T133316
CREATED:20231020T133558Z
LAST-MODIFIED:20240923T140955Z
UID:227997-1728604800-1728691199@www.monika-endres-jotter.de
SUMMARY:Audiometrie für Anfänger
DESCRIPTION:
URL:https://www.monika-endres-jotter.de/schulung/audiometrie-fuer-anfaenger-20/
LOCATION:Nürnberg
CATEGORIES:auric-direct GmbH
END:VEVENT
BEGIN:VEVENT
DTSTART;VALUE=DATE:20241012
DTEND;VALUE=DATE:20241013
DTSTAMP:20260421T133316
CREATED:20231020T133656Z
LAST-MODIFIED:20240923T141032Z
UID:227999-1728691200-1728777599@www.monika-endres-jotter.de
SUMMARY:Audiometrie für Fortgeschrittene
DESCRIPTION:
URL:https://www.monika-endres-jotter.de/schulung/audiometrie-fuer-fortgeschrittene-21/
LOCATION:Nürnberg
CATEGORIES:auric-direct GmbH
END:VEVENT
BEGIN:VEVENT
DTSTART;VALUE=DATE:20241018
DTEND;VALUE=DATE:20241019
DTSTAMP:20260421T133316
CREATED:20231020T133759Z
LAST-MODIFIED:20240923T141135Z
UID:228001-1729209600-1729295999@www.monika-endres-jotter.de
SUMMARY:Audiometrie für Anfänger
DESCRIPTION:
URL:https://www.monika-endres-jotter.de/schulung/audiometrie-fuer-anfaenger-21/
LOCATION:Erfurt
CATEGORIES:auric-direct GmbH
END:VEVENT
BEGIN:VEVENT
DTSTART;VALUE=DATE:20241019
DTEND;VALUE=DATE:20241020
DTSTAMP:20260421T133316
CREATED:20231020T133917Z
LAST-MODIFIED:20240923T141215Z
UID:228003-1729296000-1729382399@www.monika-endres-jotter.de
SUMMARY:Audiometrie für Fortgeschrittene
DESCRIPTION:
URL:https://www.monika-endres-jotter.de/schulung/audiometrie-fuer-fortgeschrittene-22/
LOCATION:Erfurt
CATEGORIES:auric-direct GmbH
END:VEVENT
BEGIN:VEVENT
DTSTART;VALUE=DATE:20241025
DTEND;VALUE=DATE:20241026
DTSTAMP:20260421T133316
CREATED:20240227T104215Z
LAST-MODIFIED:20240227T104215Z
UID:228267-1729814400-1729900799@www.monika-endres-jotter.de
SUMMARY:Praxisschulung
DESCRIPTION:
URL:https://www.monika-endres-jotter.de/schulung/praxisschulung-14/
LOCATION:Mühlacker
CATEGORIES:Inhouse-Schulung
END:VEVENT
BEGIN:VEVENT
DTSTART;VALUE=DATE:20241026
DTEND;VALUE=DATE:20241027
DTSTAMP:20260421T133316
CREATED:20240227T104346Z
LAST-MODIFIED:20240902T121754Z
UID:228269-1729900800-1729987199@www.monika-endres-jotter.de
SUMMARY:Praxisschulung
DESCRIPTION:
URL:https://www.monika-endres-jotter.de/schulung/praxisschulung-15/
LOCATION:Vaihingen
CATEGORIES:Inhouse-Schulung
END:VEVENT
BEGIN:VEVENT
DTSTART;VALUE=DATE:20241031
DTEND;VALUE=DATE:20241101
DTSTAMP:20260421T133316
CREATED:20240224T105529Z
LAST-MODIFIED:20240224T105529Z
UID:228255-1730332800-1730419199@www.monika-endres-jotter.de
SUMMARY:HNO Kongress: Audiometrie für Fortgeschrittene
DESCRIPTION:
URL:https://www.monika-endres-jotter.de/schulung/hno-kongress-audiometrie-fuer-fortgeschrittene/
LOCATION:Mannheim
CATEGORIES:HNO Fortbildungsgesellschaft
END:VEVENT
END:VCALENDAR