BEGIN:VCALENDAR
VERSION:2.0
PRODID:-//Audiometrie-Schulung und Seminare für HNO Fachangestellte - ECPv6.15.20//NONSGML v1.0//EN
CALSCALE:GREGORIAN
METHOD:PUBLISH
X-WR-CALNAME:Audiometrie-Schulung und Seminare für HNO Fachangestellte
X-ORIGINAL-URL:https://www.monika-endres-jotter.de
X-WR-CALDESC:Veranstaltungen für Audiometrie-Schulung und Seminare für HNO Fachangestellte
REFRESH-INTERVAL;VALUE=DURATION:PT1H
X-Robots-Tag:noindex
X-PUBLISHED-TTL:PT1H
BEGIN:VTIMEZONE
TZID:UTC
BEGIN:STANDARD
TZOFFSETFROM:+0000
TZOFFSETTO:+0000
TZNAME:UTC
DTSTART:20230101T000000
END:STANDARD
END:VTIMEZONE
BEGIN:VEVENT
DTSTART;VALUE=DATE:20241101
DTEND;VALUE=DATE:20241102
DTSTAMP:20260421T115504
CREATED:20240224T105653Z
LAST-MODIFIED:20240224T105653Z
UID:228257-1730419200-1730505599@www.monika-endres-jotter.de
SUMMARY:HNO Kongress: Vestibularis-Diagnostik
DESCRIPTION:
URL:https://www.monika-endres-jotter.de/schulung/hno-kongress-vestibularis-diagnostik/
LOCATION:Mannheim
CATEGORIES:HNO Fortbildungsgesellschaft
END:VEVENT
BEGIN:VEVENT
DTSTART;VALUE=DATE:20241102
DTEND;VALUE=DATE:20241103
DTSTAMP:20260421T115504
CREATED:20240224T105811Z
LAST-MODIFIED:20240224T105811Z
UID:228259-1730505600-1730591999@www.monika-endres-jotter.de
SUMMARY:HNO-Kongress: Einführung in die Audiometrie
DESCRIPTION:
URL:https://www.monika-endres-jotter.de/schulung/hno-kongress-einfuehrung-in-die-audiometrie/
LOCATION:Mannheim
CATEGORIES:HNO Fortbildungsgesellschaft
END:VEVENT
BEGIN:VEVENT
DTSTART;VALUE=DATE:20241108
DTEND;VALUE=DATE:20241111
DTSTAMP:20260421T115504
CREATED:20231022T082048Z
LAST-MODIFIED:20241024T050352Z
UID:228026-1731024000-1731283199@www.monika-endres-jotter.de
SUMMARY:Urlaub
DESCRIPTION:
URL:https://www.monika-endres-jotter.de/schulung/urlaub-3/
END:VEVENT
BEGIN:VEVENT
DTSTART;VALUE=DATE:20241116
DTEND;VALUE=DATE:20241117
DTSTAMP:20260421T115504
CREATED:20231020T134255Z
LAST-MODIFIED:20241024T050201Z
UID:228005-1731715200-1731801599@www.monika-endres-jotter.de
SUMMARY:Vestibularis-Diagnostik
DESCRIPTION:
URL:https://www.monika-endres-jotter.de/schulung/vestibularis-diagnostik-10/
LOCATION:München
CATEGORIES:auric-direct GmbH
END:VEVENT
BEGIN:VEVENT
DTSTART;VALUE=DATE:20241122
DTEND;VALUE=DATE:20241123
DTSTAMP:20260421T115504
CREATED:20231020T134404Z
LAST-MODIFIED:20241024T050112Z
UID:228008-1732233600-1732319999@www.monika-endres-jotter.de
SUMMARY:Audiometrie für Anfänger
DESCRIPTION:
URL:https://www.monika-endres-jotter.de/schulung/audiometrie-fuer-anfaenger-22/
LOCATION:Kassel
CATEGORIES:auric-direct GmbH
END:VEVENT
BEGIN:VEVENT
DTSTART;VALUE=DATE:20241123
DTEND;VALUE=DATE:20241124
DTSTAMP:20260421T115504
CREATED:20231020T134531Z
LAST-MODIFIED:20241024T050027Z
UID:228011-1732320000-1732406399@www.monika-endres-jotter.de
SUMMARY:Audiometrie für Fortgeschrittene
DESCRIPTION:
URL:https://www.monika-endres-jotter.de/schulung/udiometrie-fuer-fortgeschrittene/
LOCATION:Kassel
CATEGORIES:auric-direct GmbH
END:VEVENT
BEGIN:VEVENT
DTSTART;VALUE=DATE:20241128
DTEND;VALUE=DATE:20241129
DTSTAMP:20260421T115504
CREATED:20240829T103141Z
LAST-MODIFIED:20240902T121318Z
UID:228498-1732752000-1732838399@www.monika-endres-jotter.de
SUMMARY:Praxisschulung
DESCRIPTION:
URL:https://www.monika-endres-jotter.de/schulung/praxisschulung-26/
LOCATION:Berlin
CATEGORIES:Inhouse-Schulung
END:VEVENT
BEGIN:VEVENT
DTSTART;VALUE=DATE:20241129
DTEND;VALUE=DATE:20241130
DTSTAMP:20260421T115504
CREATED:20240902T121408Z
LAST-MODIFIED:20240902T121408Z
UID:228504-1732838400-1732924799@www.monika-endres-jotter.de
SUMMARY:Praxisschulung
DESCRIPTION:
URL:https://www.monika-endres-jotter.de/schulung/praxisschulung-27/
LOCATION:Berlin
CATEGORIES:Inhouse-Schulung
END:VEVENT
BEGIN:VEVENT
DTSTART;VALUE=DATE:20241130
DTEND;VALUE=DATE:20241201
DTSTAMP:20260421T115504
CREATED:20231201T100817Z
LAST-MODIFIED:20231206T133432Z
UID:228072-1732924800-1733011199@www.monika-endres-jotter.de
SUMMARY:Vestibularis-Diagnostik
DESCRIPTION:
URL:https://www.monika-endres-jotter.de/schulung/vestibularis-diagnostik-14/
LOCATION:Berlin
CATEGORIES:Natus Medical GmbH
END:VEVENT
END:VCALENDAR